BEGIN:VCALENDAR
VERSION:2.0
PRODID:-//TSG Mädchengarde Zapfendorf - ECPv6.15.17.1//NONSGML v1.0//EN
CALSCALE:GREGORIAN
METHOD:PUBLISH
X-WR-CALNAME:TSG Mädchengarde Zapfendorf
X-ORIGINAL-URL:https://tsg-zapfendorf.de
X-WR-CALDESC:Veranstaltungen für TSG Mädchengarde Zapfendorf
REFRESH-INTERVAL;VALUE=DURATION:PT1H
X-Robots-Tag:noindex
X-PUBLISHED-TTL:PT1H
BEGIN:VTIMEZONE
TZID:Europe/Berlin
BEGIN:DAYLIGHT
TZOFFSETFROM:+0100
TZOFFSETTO:+0200
TZNAME:CEST
DTSTART:20250330T010000
END:DAYLIGHT
BEGIN:STANDARD
TZOFFSETFROM:+0200
TZOFFSETTO:+0100
TZNAME:CET
DTSTART:20251026T010000
END:STANDARD
BEGIN:DAYLIGHT
TZOFFSETFROM:+0100
TZOFFSETTO:+0200
TZNAME:CEST
DTSTART:20260329T010000
END:DAYLIGHT
BEGIN:STANDARD
TZOFFSETFROM:+0200
TZOFFSETTO:+0100
TZNAME:CET
DTSTART:20261025T010000
END:STANDARD
BEGIN:DAYLIGHT
TZOFFSETFROM:+0100
TZOFFSETTO:+0200
TZNAME:CEST
DTSTART:20270328T010000
END:DAYLIGHT
BEGIN:STANDARD
TZOFFSETFROM:+0200
TZOFFSETTO:+0100
TZNAME:CET
DTSTART:20271031T010000
END:STANDARD
END:VTIMEZONE
BEGIN:VEVENT
DTSTART;TZID=Europe/Berlin:20260207T190000
DTEND;TZID=Europe/Berlin:20260207T233000
DTSTAMP:20260420T093557
CREATED:20260109T081449Z
LAST-MODIFIED:20260109T081449Z
UID:876-1770490800-1770507000@tsg-zapfendorf.de
SUMMARY:TSG Faschingstanz
DESCRIPTION:Faschingstanz mit der Partyband den „Schugis“ und Showeinlagen
URL:https://tsg-zapfendorf.de/event/tsg-faschingstanz/
LOCATION:Turnhalle Zapfendorf
CATEGORIES:Veranstaltungen
ATTACH;FMTTYPE=image/jpeg:https://tsg-zapfendorf.de/wordpress/wp-content/uploads/2026/01/FT_26_A4quer-Kopie-scaled.jpg
END:VEVENT
BEGIN:VEVENT
DTSTART;TZID=Europe/Berlin:20260216T203000
DTEND;TZID=Europe/Berlin:20260216T223000
DTSTAMP:20260420T093557
CREATED:20260109T082611Z
LAST-MODIFIED:20260109T082611Z
UID:887-1771273800-1771281000@tsg-zapfendorf.de
SUMMARY:Rosenmontagstanz Hotel Sonnenblick
DESCRIPTION:Auftritte de Maxigarde mit Show- und Gardetanz
URL:https://tsg-zapfendorf.de/event/rosenmontagstanz-hotel-sonnenblick/
CATEGORIES:Auftritte
ATTACH;FMTTYPE=image/jpeg:https://tsg-zapfendorf.de/wordpress/wp-content/uploads/2026/01/0e4f85b5-0a4e-48b3-8671-34e9d6b27c72.jpg
END:VEVENT
END:VCALENDAR