BEGIN:VCALENDAR
VERSION:2.0
PRODID:-//TSG Mädchengarde Zapfendorf - ECPv6.15.17.1//NONSGML v1.0//EN
CALSCALE:GREGORIAN
METHOD:PUBLISH
X-WR-CALNAME:TSG Mädchengarde Zapfendorf
X-ORIGINAL-URL:https://tsg-zapfendorf.de
X-WR-CALDESC:Veranstaltungen für TSG Mädchengarde Zapfendorf
REFRESH-INTERVAL;VALUE=DURATION:PT1H
X-Robots-Tag:noindex
X-PUBLISHED-TTL:PT1H
BEGIN:VTIMEZONE
TZID:Europe/Berlin
BEGIN:DAYLIGHT
TZOFFSETFROM:+0100
TZOFFSETTO:+0200
TZNAME:CEST
DTSTART:20240331T010000
END:DAYLIGHT
BEGIN:STANDARD
TZOFFSETFROM:+0200
TZOFFSETTO:+0100
TZNAME:CET
DTSTART:20241027T010000
END:STANDARD
BEGIN:DAYLIGHT
TZOFFSETFROM:+0100
TZOFFSETTO:+0200
TZNAME:CEST
DTSTART:20250330T010000
END:DAYLIGHT
BEGIN:STANDARD
TZOFFSETFROM:+0200
TZOFFSETTO:+0100
TZNAME:CET
DTSTART:20251026T010000
END:STANDARD
BEGIN:DAYLIGHT
TZOFFSETFROM:+0100
TZOFFSETTO:+0200
TZNAME:CEST
DTSTART:20260329T010000
END:DAYLIGHT
BEGIN:STANDARD
TZOFFSETFROM:+0200
TZOFFSETTO:+0100
TZNAME:CET
DTSTART:20261025T010000
END:STANDARD
END:VTIMEZONE
BEGIN:VEVENT
DTSTART;TZID=Europe/Berlin:20250921T143000
DTEND;TZID=Europe/Berlin:20250921T163000
DTSTAMP:20260420T174401
CREATED:20250722T114150Z
LAST-MODIFIED:20250726T075634Z
UID:216-1758465000-1758472200@tsg-zapfendorf.de
SUMMARY:Korbmarkt Lichtenfels
DESCRIPTION:Showauftritt der Maxigarde
URL:https://tsg-zapfendorf.de/event/korbmarkt-lichtenfels/
CATEGORIES:Auftritte
END:VEVENT
END:VCALENDAR