BEGIN:VCALENDAR
VERSION:2.0
PRODID:-//TSG Mädchengarde Zapfendorf - ECPv6.15.17.1//NONSGML v1.0//EN
CALSCALE:GREGORIAN
METHOD:PUBLISH
X-ORIGINAL-URL:https://tsg-zapfendorf.de
X-WR-CALDESC:Veranstaltungen für TSG Mädchengarde Zapfendorf
REFRESH-INTERVAL;VALUE=DURATION:PT1H
X-Robots-Tag:noindex
X-PUBLISHED-TTL:PT1H
BEGIN:VTIMEZONE
TZID:Europe/Berlin
BEGIN:DAYLIGHT
TZOFFSETFROM:+0100
TZOFFSETTO:+0200
TZNAME:CEST
DTSTART:20250330T010000
END:DAYLIGHT
BEGIN:STANDARD
TZOFFSETFROM:+0200
TZOFFSETTO:+0100
TZNAME:CET
DTSTART:20251026T010000
END:STANDARD
BEGIN:DAYLIGHT
TZOFFSETFROM:+0100
TZOFFSETTO:+0200
TZNAME:CEST
DTSTART:20260329T010000
END:DAYLIGHT
BEGIN:STANDARD
TZOFFSETFROM:+0200
TZOFFSETTO:+0100
TZNAME:CET
DTSTART:20261025T010000
END:STANDARD
BEGIN:DAYLIGHT
TZOFFSETFROM:+0100
TZOFFSETTO:+0200
TZNAME:CEST
DTSTART:20270328T010000
END:DAYLIGHT
BEGIN:STANDARD
TZOFFSETFROM:+0200
TZOFFSETTO:+0100
TZNAME:CET
DTSTART:20271031T010000
END:STANDARD
END:VTIMEZONE
BEGIN:VEVENT
DTSTART;TZID=Europe/Berlin:20260208T140000
DTEND;TZID=Europe/Berlin:20260208T173000
DTSTAMP:20260420T093832
CREATED:20260109T081941Z
LAST-MODIFIED:20260109T081941Z
UID:881-1770559200-1770571800@tsg-zapfendorf.de
SUMMARY:TSG Kinderfasching
DESCRIPTION:Bunter Nachmittag für alle Kids
URL:https://tsg-zapfendorf.de/event/tsg-kinderfasching/
LOCATION:Turnhalle Zapfendorf
CATEGORIES:Veranstaltungen
ATTACH;FMTTYPE=image/jpeg:https://tsg-zapfendorf.de/wordpress/wp-content/uploads/2026/01/KF_26_A4quer-Kopie-scaled.jpg
END:VEVENT
BEGIN:VEVENT
DTSTART;TZID=Europe/Berlin:20260212T210000
DTEND;TZID=Europe/Berlin:20260212T233000
DTSTAMP:20260420T093832
CREATED:20260109T082354Z
LAST-MODIFIED:20260109T093209Z
UID:884-1770930000-1770939000@tsg-zapfendorf.de
SUMMARY:Weiberfasching SVZ
DESCRIPTION:Auftritt der Maxigarde mit ihrem Showtanz
URL:https://tsg-zapfendorf.de/event/weiberfasching-svz/
LOCATION:Sportlerheim SV Zapfendorf
CATEGORIES:Auftritte
ATTACH;FMTTYPE=image/jpeg:https://tsg-zapfendorf.de/wordpress/wp-content/uploads/2026/01/PHOTO-2026-01-09-09-56-56.jpg
END:VEVENT
END:VCALENDAR